BEGIN:VCALENDAR
VERSION:2.0
PRODID:-//Yuhan and Ken//Save the Date//EN
CALSCALE:GREGORIAN
METHOD:PUBLISH
BEGIN:VEVENT
UID:yuhan-ken-wedding-20261114@yuhanandken.com
DTSTAMP:20260419T000000Z
DTSTART;VALUE=DATE:20261114
DTEND;VALUE=DATE:20261115
SUMMARY:Yuhan & Ken's Wedding
DESCRIPTION:Save the date! More details coming soon at https://yuhanandken.com
LOCATION:Maui, Hawaii, USA
URL:https://yuhanandken.com
TRANSP:TRANSPARENT
END:VEVENT
END:VCALENDAR
